BEGIN:VCALENDAR
VERSION:2.0
PRODID:-//Noble Arise - ECPv6.15.20//NONSGML v1.0//EN
CALSCALE:GREGORIAN
METHOD:PUBLISH
X-WR-CALNAME:Noble Arise
X-ORIGINAL-URL:https://noblearisecic.org
X-WR-CALDESC:Events for Noble Arise
REFRESH-INTERVAL;VALUE=DURATION:PT1H
X-Robots-Tag:noindex
X-PUBLISHED-TTL:PT1H
BEGIN:VTIMEZONE
TZID:UTC
BEGIN:STANDARD
TZOFFSETFROM:+0000
TZOFFSETTO:+0000
TZNAME:UTC
DTSTART:20250101T000000
END:STANDARD
END:VTIMEZONE
BEGIN:VEVENT
DTSTART;TZID=UTC:20260217T163000
DTEND;TZID=UTC:20260217T183000
DTSTAMP:20260425T152746
CREATED:20210317T033125Z
LAST-MODIFIED:20260211T135213Z
UID:518-1771345800-1771353000@noblearisecic.org
SUMMARY:Webinar- February 17th 2026
DESCRIPTION:Thursday 17th February\, 2026 \n4:30pm-6:30pm \nVenue: Zoom \nZoom ID: 856 4255 1507
URL:https://noblearisecic.org/event/webinar-february-17th-2026/
LOCATION:United Kingdom\, United Kingdom
ATTACH;FMTTYPE=image/jpeg:https://noblearisecic.org/wp-content/uploads/2021/03/WhatsApp-Image-2026-02-10-at-18.33.56.jpeg
END:VEVENT
BEGIN:VEVENT
DTSTART;TZID=UTC:20260212T130000
DTEND;TZID=UTC:20260212T150000
DTSTAMP:20260425T152746
CREATED:20210304T031217Z
LAST-MODIFIED:20260211T135222Z
UID:447-1770901200-1770908400@noblearisecic.org
SUMMARY:Webinar- February 12th 2026
DESCRIPTION:Thursday 12th February\, 2026 \n1pm-3pm \nVenue: Zoom \nZoom ID: 856 4255 1507
URL:https://noblearisecic.org/event/cos-visa-and-care-work-in-greater-manchester/
LOCATION:United Kingdom\, United Kingdom
CATEGORIES:Seminars
ATTACH;FMTTYPE=image/jpeg:https://noblearisecic.org/wp-content/uploads/2026/02/WhatsApp-Image-2026-02-10-at-18.33.35.jpeg
END:VEVENT
END:VCALENDAR